BEGIN:VCALENDAR
VERSION:2.0
PRODID:-//Squarespace Inc/Squarespace 6//v6//EN
BEGIN:VEVENT
UID:53ceb8c9e4b006756b74b38c@squarespace.com
DTSTAMP:20140722T191746Z
DTSTART:20141010T183000Z
DTEND:20141011T193000Z
SUMMARY:Closed
END:VEVENT
END:VCALENDAR
