BEGIN:VCALENDAR
VERSION:2.0
PRODID:-//Squarespace Inc/Squarespace 6//v6//EN
BEGIN:VEVENT
UID:5330d6a2e4b003cf1b47d1d1@squarespace.com
DTSTAMP:20140403T183926Z
DTSTART:20141014T013000Z
DTEND:20141017T023000Z
SUMMARY:BOOKED
END:VEVENT
END:VCALENDAR
