BEGIN:VCALENDAR
VERSION:2.0
PRODID:-//Squarespace Inc/Squarespace 6//v6//EN
BEGIN:VEVENT
UID:5330d70de4b036fa53ac98e7@squarespace.com
DTSTAMP:20140413T023130Z
DTSTART:20141020T013000Z
DTEND:20141024T023000Z
SUMMARY:BOOKED
END:VEVENT
END:VCALENDAR
