BEGIN:VCALENDAR
VERSION:2.0
PRODID:-//Squarespace Inc/Squarespace 6//v6//EN
BEGIN:VEVENT
UID:5330d6d5e4b0de79e96a17af@squarespace.com
DTSTAMP:20140413T023347Z
DTSTART:20141024T013000Z
DTEND:20141027T023000Z
SUMMARY:Booked
END:VEVENT
END:VCALENDAR
