BEGIN:VCALENDAR
VERSION:2.0
PRODID:-//Squarespace Inc/Squarespace 6//v6//EN
BEGIN:VEVENT
UID:5330d736e4b09029b2a180d9@squarespace.com
DTSTAMP:20140413T023404Z
DTSTART:20141028T013000Z
DTEND:20141031T023000Z
SUMMARY:Booked
END:VEVENT
END:VCALENDAR
