BEGIN:VCALENDAR
VERSION:2.0
PRODID:-//Squarespace Inc/Squarespace 6//v6//EN
BEGIN:VEVENT
UID:53cebad0e4b035ee0d72aa95@squarespace.com
DTSTAMP:20140722T192608Z
DTSTART:20141114T183000Z
DTEND:20141115T193000Z
SUMMARY:closed
END:VEVENT
END:VCALENDAR
