BEGIN:VCALENDAR
VERSION:2.0
PRODID:-//Squarespace Inc/Squarespace 6//v6//EN
BEGIN:VEVENT
UID:545832a3e4b006db33d9760b@squarespace.com
DTSTAMP:20141104T015821Z
DTSTART:20141117T020000Z
DTEND:20141119T030000Z
SUMMARY:Booked
END:VEVENT
END:VCALENDAR
