BEGIN:VCALENDAR
VERSION:2.0
PRODID:-//Squarespace Inc/Squarespace 6//v6//EN
BEGIN:VEVENT
UID:53ac7f39e4b0927a7ce0f8ae@squarespace.com
DTSTAMP:20140626T201532Z
DTSTART:20141118T193000Z
DTEND:20141120T203000Z
SUMMARY:Booked
END:VEVENT
END:VCALENDAR
