BEGIN:VCALENDAR
VERSION:2.0
PRODID:-//Squarespace Inc/Squarespace 6//v6//EN
BEGIN:VEVENT
UID:5330d7dee4b03d65bdab9303@squarespace.com
DTSTAMP:20140403T184031Z
DTSTART:20141124T023000Z
DTEND:20141128T033000Z
SUMMARY:BOOKED
END:VEVENT
END:VCALENDAR
