BEGIN:VCALENDAR
VERSION:2.0
PRODID:-//Squarespace Inc/Squarespace 6//v6//EN
BEGIN:VEVENT
UID:5330d781e4b09029b2a1813a@squarespace.com
DTSTAMP:20141106T234654Z
DTSTART:20141103T023000Z
DTEND:20141107T033000Z
SUMMARY:BOOKED
END:VEVENT
END:VCALENDAR
