BEGIN:VCALENDAR
VERSION:2.0
PRODID:-//Squarespace Inc/Squarespace 6//v6//EN
BEGIN:VEVENT
UID:5349f7bbe4b092e708c228f1@squarespace.com
DTSTAMP:20140413T023531Z
DTSTART:20141107T020000Z
DTEND:20141109T030000Z
SUMMARY:BOOKED
END:VEVENT
END:VCALENDAR
