BEGIN:VCALENDAR
VERSION:2.0
PRODID:-//Squarespace Inc/Squarespace 6//v6//EN
BEGIN:VEVENT
UID:5330d7a5e4b05b4831480b58@squarespace.com
DTSTAMP:20140413T023624Z
DTSTART:20141110T023000Z
DTEND:20141114T033000Z
SUMMARY:Booked
END:VEVENT
END:VCALENDAR
