BEGIN:VCALENDAR
VERSION:2.0
PRODID:-//Squarespace Inc/Squarespace 6//v6//EN
BEGIN:VEVENT
UID:5330d7ffe4b0db510e3f06f8@squarespace.com
DTSTAMP:20140413T023646Z
DTSTART:20141201T023000Z
DTEND:20141205T033000Z
SUMMARY:BOOKED
END:VEVENT
END:VCALENDAR
