BEGIN:VCALENDAR
VERSION:2.0
PRODID:-//Squarespace Inc/Squarespace 6//v6//EN
BEGIN:VEVENT
UID:5328fae9e4b0bf79b0b52952@squarespace.com
DTSTAMP:20140319T020336Z
DTSTART:20140318T023000Z
DTEND:20140322T033000Z
SUMMARY:BOOKED
END:VEVENT
END:VCALENDAR
