BEGIN:VCALENDAR
VERSION:2.0
PRODID:-//Squarespace Inc/Squarespace 6//v6//EN
BEGIN:VEVENT
UID:5328f9ede4b025b2a07e735a@squarespace.com
DTSTAMP:20140319T020228Z
DTSTART:20140325T020000Z
DTEND:20140329T030000Z
SUMMARY:BOOKED
END:VEVENT
END:VCALENDAR
