BEGIN:VCALENDAR
VERSION:2.0
PRODID:-//Squarespace Inc/Squarespace 6//v6//EN
BEGIN:VEVENT
UID:5328fb05e4b0bf79b0b52985@squarespace.com
DTSTAMP:20140319T020414Z
DTSTART:20140330T023000Z
DTEND:20140331T033000Z
SUMMARY:CLOSED
END:VEVENT
END:VCALENDAR
