BEGIN:VCALENDAR
VERSION:2.0
PRODID:-//Squarespace Inc/Squarespace 6//v6//EN
BEGIN:VEVENT
UID:5328fa2ee4b025b2a07e73ae@squarespace.com
DTSTAMP:20140319T020259Z
DTSTART:20140401T023000Z
DTEND:20140404T043000Z
SUMMARY:BOOKED
END:VEVENT
END:VCALENDAR
