BEGIN:VCALENDAR
VERSION:2.0
PRODID:-//Squarespace Inc/Squarespace 6//v6//EN
BEGIN:VEVENT
UID:532a3536e4b079860b03694e@squarespace.com
DTSTAMP:20140325T034157Z
DTSTART:20140419T003000Z
DTEND:20140422T013000Z
SUMMARY:BOOKED
END:VEVENT
END:VCALENDAR
