BEGIN:VCALENDAR
VERSION:2.0
PRODID:-//Squarespace Inc/Squarespace 6//v6//EN
BEGIN:VEVENT
UID:532a356ae4b0acb3f8f14bd1@squarespace.com
DTSTAMP:20140413T023000Z
DTSTART:20140423T003000Z
DTEND:20140426T013000Z
SUMMARY:BOOKED
END:VEVENT
END:VCALENDAR
