BEGIN:VCALENDAR
VERSION:2.0
PRODID:-//Squarespace Inc/Squarespace 6//v6//EN
BEGIN:VEVENT
UID:532a3498e4b04d947b06f2fa@squarespace.com
DTSTAMP:20140320T004557Z
DTSTART:20140408T003000Z
DTEND:20140412T013000Z
SUMMARY:BOOKED
END:VEVENT
END:VCALENDAR
