BEGIN:VCALENDAR
VERSION:2.0
PRODID:-//Squarespace Inc/Squarespace 6//v6//EN
BEGIN:VEVENT
UID:5328fcd4e4b05fcbbac9126d@squarespace.com
DTSTAMP:20140413T023037Z
DTSTART:20140512T023000Z
DTEND:20140516T033000Z
SUMMARY:BOOKED
END:VEVENT
END:VCALENDAR
