BEGIN:VCALENDAR
VERSION:2.0
PRODID:-//Squarespace Inc/Squarespace 6//v6//EN
BEGIN:VEVENT
UID:5330d87be4b0443f04c0d797@squarespace.com
DTSTAMP:20140325T011446Z
DTSTART:20140604T013000Z
DTEND:20140801T023000Z
SUMMARY:Closed
END:VEVENT
END:VCALENDAR
