BEGIN:VCALENDAR
VERSION:2.0
PRODID:-//Squarespace Inc/Squarespace 6//v6//EN
BEGIN:VEVENT
UID:5330d681e4b003cf1b47d1b8@squarespace.com
DTSTAMP:20140413T023104Z
DTSTART:20140926T013000Z
DTEND:20140928T023000Z
SUMMARY:BOOKED
END:VEVENT
END:VCALENDAR
