BEGIN:VCALENDAR
VERSION:2.0
PRODID:-//Squarespace Inc/Squarespace 6//v6//EN
BEGIN:VEVENT
UID:572a62a307eaa07a187b1c1d@squarespace.com
DTSTAMP:20160504T205937Z
DTSTART:20161010T200000Z
DTEND:20161013T230000Z
SUMMARY:Booked
END:VEVENT
END:VCALENDAR
