BEGIN:VCALENDAR
VERSION:2.0
PRODID:-//Squarespace Inc/Squarespace 6//v6//EN
BEGIN:VEVENT
UID:5648e884e4b00accac88396c@squarespace.com
DTSTAMP:20151115T201911Z
DTSTART:20161017T203000Z
DTEND:20161021T003000Z
SUMMARY:Booked 
END:VEVENT
END:VCALENDAR
