BEGIN:VCALENDAR
VERSION:2.0
PRODID:-//Squarespace Inc/Squarespace 6//v6//EN
BEGIN:VEVENT
UID:56a67eda5827c39847e1f788@squarespace.com
DTSTAMP:20160125T200105Z
DTSTART:20161111T020000Z
DTEND:20161113T010000Z
SUMMARY:Booked
END:VEVENT
END:VCALENDAR
