BEGIN:VCALENDAR
VERSION:2.0
PRODID:-//Squarespace Inc/Squarespace 6//v6//EN
BEGIN:VEVENT
UID:55dd436fe4b06c381ee83a06@squarespace.com
DTSTAMP:20150826T044158Z
DTSTART:20161120T210000Z
DTEND:20161125T000000Z
SUMMARY:Booked
END:VEVENT
END:VCALENDAR
