BEGIN:VCALENDAR
VERSION:2.0
PRODID:-//Squarespace Inc/Squarespace 6//v6//EN
BEGIN:VEVENT
UID:568b036869492e0872fe3810@squarespace.com
DTSTAMP:20160104T234259Z
DTSTART:20161223T000000Z
DTEND:20170101T010000Z
SUMMARY:Closed
END:VEVENT
END:VCALENDAR
