BEGIN:VCALENDAR
VERSION:2.0
PRODID:-//Squarespace Inc/Squarespace 6//v6//EN
BEGIN:VEVENT
UID:5824c43db3db2bc24c0d4be2@squarespace.com
DTSTAMP:20161110T190301Z
DTSTART:20161209T020000Z
DTEND:20161211T000000Z
SUMMARY: Booked
END:VEVENT
END:VCALENDAR
