BEGIN:VCALENDAR
VERSION:2.0
PRODID:-//Squarespace Inc/Squarespace 6//v6//EN
BEGIN:VEVENT
UID:56eb44fd07eaa0a2a550cd75@squarespace.com
DTSTAMP:20160318T000030Z
DTSTART:20161127T210000Z
DTEND:20161203T220000Z
SUMMARY:Booked 
END:VEVENT
END:VCALENDAR
