BEGIN:VCALENDAR
VERSION:2.0
PRODID:-//Squarespace Inc/Squarespace 6//v6//EN
BEGIN:VEVENT
UID:551c477de4b0e07d77defc18@squarespace.com
DTSTAMP:20150401T193150Z
DTSTART:20160325T020000Z
DTEND:20160327T230000Z
SUMMARY:Booked
END:VEVENT
END:VCALENDAR
