BEGIN:VCALENDAR
VERSION:2.0
PRODID:-//Squarespace Inc/Squarespace 6//v6//EN
BEGIN:VEVENT
UID:54b6db3fe4b0a3e130d204d2@squarespace.com
DTSTAMP:20150114T211114Z
DTSTART:20160415T223000Z
DTEND:20160419T233000Z
SUMMARY:Booked
END:VEVENT
END:VCALENDAR
