BEGIN:VCALENDAR
VERSION:2.0
PRODID:-//Squarespace Inc/Squarespace 6//v6//EN
BEGIN:VEVENT
UID:56a67bc34bf118df496e75db@squarespace.com
DTSTAMP:20160125T194737Z
DTSTART:20160421T230000Z
DTEND:20160425T000000Z
SUMMARY:Booked 
END:VEVENT
END:VCALENDAR
