BEGIN:VCALENDAR
VERSION:2.0
PRODID:-//Squarespace Inc/Squarespace 6//v6//EN
BEGIN:VEVENT
UID:561f183ae4b0bf1e6dddce6a@squarespace.com
DTSTAMP:20151015T030718Z
DTSTART:20160606T043000Z
DTEND:20160729T053000Z
SUMMARY:Closed
END:VEVENT
END:VCALENDAR
