BEGIN:VCALENDAR
VERSION:2.0
PRODID:-//Squarespace Inc/Squarespace 6//v6//EN
BEGIN:VEVENT
UID:58858efe4402434051b3f08b@squarespace.com
DTSTAMP:20170123T050520Z
DTSTART:20170102T013000Z
DTEND:20170107T003000Z
SUMMARY:Booked 
END:VEVENT
END:VCALENDAR
