BEGIN:VCALENDAR
VERSION:2.0
PRODID:-//Squarespace Inc/Squarespace 6//v6//EN
BEGIN:VEVENT
UID:5888fa321e5b6c3dbb973578@squarespace.com
DTSTAMP:20170125T191946Z
DTSTART:20180120T013000Z
DTEND:20180126T003000Z
SUMMARY:Booked
END:VEVENT
END:VCALENDAR
