BEGIN:VCALENDAR
VERSION:2.0
PRODID:-//Squarespace Inc/Squarespace 6//v6//EN
BEGIN:VEVENT
UID:58a738ed5016e19a76e4cbd9@squarespace.com
DTSTAMP:20170217T175521Z
DTSTART:20180126T020000Z
DTEND:20180129T000000Z
SUMMARY:Booked
END:VEVENT
END:VCALENDAR
