BEGIN:VCALENDAR
VERSION:2.0
PRODID:-//Squarespace Inc/Squarespace 6//v6//EN
BEGIN:VEVENT
UID:5888faac5016e1cc6ad746bf@squarespace.com
DTSTAMP:20170611T200854Z
DTSTART:20180212T223000Z
DTEND:20180216T003000Z
SUMMARY:Booked
END:VEVENT
END:VCALENDAR
