BEGIN:VCALENDAR
VERSION:2.0
PRODID:-//Squarespace Inc/Squarespace 6//v6//EN
BEGIN:VEVENT
UID:5977d8daf7e0ab751a1fc7d0@squarespace.com
DTSTAMP:20170725T234853Z
DTSTART:20180216T230000Z
DTEND:20180218T000000Z
SUMMARY:Closed
END:VEVENT
END:VCALENDAR
