BEGIN:VCALENDAR
VERSION:2.0
PRODID:-//Squarespace Inc/Squarespace 6//v6//EN
BEGIN:VEVENT
UID:58a2084137c581250fc17fae@squarespace.com
DTSTAMP:20170213T192626Z
DTSTART:20180202T013000Z
DTEND:20180204T003000Z
SUMMARY:Booked
END:VEVENT
END:VCALENDAR
