BEGIN:VCALENDAR
VERSION:2.0
PRODID:-//Squarespace Inc/Squarespace 6//v6//EN
BEGIN:VEVENT
UID:5888faf8725e252772ed4cec@squarespace.com
DTSTAMP:20170125T192252Z
DTSTART:20180225T213000Z
DTEND:20180301T223000Z
SUMMARY:Booked
END:VEVENT
END:VCALENDAR
