BEGIN:VCALENDAR
VERSION:2.0
PRODID:-//Squarespace Inc/Squarespace 6//v6//EN
BEGIN:VEVENT
UID:58a208893e00bea44940ad3c@squarespace.com
DTSTAMP:20170213T192731Z
DTSTART:20180209T013000Z
DTEND:20180211T003000Z
SUMMARY:Booked
END:VEVENT
END:VCALENDAR
