BEGIN:VCALENDAR
VERSION:2.0
PRODID:-//Squarespace Inc/Squarespace 6//v6//EN
BEGIN:VEVENT
UID:5888fb3ae6f2e12c1a8bfb5f@squarespace.com
DTSTAMP:20170125T192355Z
DTSTART:20180310T213000Z
DTEND:20180315T223000Z
SUMMARY:Booked
END:VEVENT
END:VCALENDAR
