BEGIN:VCALENDAR
VERSION:2.0
PRODID:-//Squarespace Inc/Squarespace 6//v6//EN
BEGIN:VEVENT
UID:5a1f7369c830253d32d23351@squarespace.com
DTSTAMP:20171130T025652Z
DTSTART:20180317T030000Z
DTEND:20180318T040000Z
SUMMARY:Closed
END:VEVENT
END:VCALENDAR
