BEGIN:VCALENDAR
VERSION:2.0
PRODID:-//Squarespace Inc/Squarespace 6//v6//EN
BEGIN:VEVENT
UID:5888fb8920099e5c1aa1cc85@squarespace.com
DTSTAMP:20170125T192513Z
DTSTART:20180318T213000Z
DTEND:20180322T223000Z
SUMMARY:Booked
END:VEVENT
END:VCALENDAR
