BEGIN:VCALENDAR
VERSION:2.0
PRODID:-//Squarespace Inc/Squarespace 6//v6//EN
BEGIN:VEVENT
UID:593da7108419c2335f167428@squarespace.com
DTSTAMP:20170611T202528Z
DTSTART:20180323T020000Z
DTEND:20180325T000000Z
SUMMARY:Booked 
END:VEVENT
END:VCALENDAR
