BEGIN:VCALENDAR
VERSION:2.0
PRODID:-//Squarespace Inc/Squarespace 6//v6//EN
BEGIN:VEVENT
UID:5888fbaa17bffc62ea3501d2@squarespace.com
DTSTAMP:20170125T192553Z
DTSTART:20180325T213000Z
DTEND:20180328T223000Z
SUMMARY:Booked
END:VEVENT
END:VCALENDAR
