BEGIN:VCALENDAR
VERSION:2.0
PRODID:-//Squarespace Inc/Squarespace 6//v6//EN
BEGIN:VEVENT
UID:59826ce415d5dbefdf12be1a@squarespace.com
DTSTAMP:20170803T002327Z
DTSTART:20180330T013000Z
DTEND:20180402T013000Z
SUMMARY:Booked
END:VEVENT
END:VCALENDAR
