BEGIN:VCALENDAR
VERSION:2.0
PRODID:-//Squarespace Inc/Squarespace 6//v6//EN
BEGIN:VEVENT
UID:5888fb1c15d5db5c2002b06f@squarespace.com
DTSTAMP:20170125T192324Z
DTSTART:20180304T213000Z
DTEND:20180308T223000Z
SUMMARY:Booked
END:VEVENT
END:VCALENDAR
