BEGIN:VCALENDAR
VERSION:2.0
PRODID:-//Squarespace Inc/Squarespace 6//v6//EN
BEGIN:VEVENT
UID:5a6049a8f9619a7f880a8141@squarespace.com
DTSTAMP:20180118T071614Z
DTSTART:20180403T083000Z
DTEND:20180406T093000Z
SUMMARY:Closed
END:VEVENT
END:VCALENDAR
